BEGIN:VCALENDAR
VERSION:2.0
PRODID:-//194.48.170.60//NONSGML kigkonsult.se iCalcreator 2.18//
CALSCALE:GREGORIAN
METHOD:PUBLISH
X-WR-TIMEZONE:Europe/London
BEGIN:VEVENT
UID:event236@Stefans-Karaoke.de
DTSTAMP:20260421T012117Z
CATEGORIES:Karaoke
DESCRIPTION:Karaoke im Furtnerbräu (Freising)\nKategorie: Karaoke\nICS-Link
 : https://www.stefans-karaoke.de/index.php?option=com_jem&view=event&id=23
 6:furtnerbraeu-freising\n
DTSTART;TZID=Europe/London:20200424T200000
DTEND;TZID=Europe/London:20200424T200000
LOCATION:Furtnerbräu Freising\,Obere Hauptstraße 42\,Freising
SUMMARY:Karaoke im Furtnerbräu (Freising)
URL:https://www.stefans-karaoke.de/index.php?option=com_jem&view=event&id=2
 36:furtnerbraeu-freising
END:VEVENT
END:VCALENDAR
